BEGIN:VCALENDAR
VERSION:2.0
PRODID:-//SnoPeak Events//EN
CALSCALE:GREGORIAN
METHOD:PUBLISH
BEGIN:VEVENT
UID:9148@snopeak.com
DTSTAMP:20260422T101145Z
DTSTART;VALUE=DATE:20240303
DTEND;VALUE=DATE:20240317
SUMMARY:Iditarod 2024
LOCATION:Alaska
DESCRIPTION:Multi-Stage Race
URL:https://snopeak.com/events/iditarod-2024/
END:VEVENT
END:VCALENDAR
