BEGIN:VCALENDAR
VERSION:2.0
PRODID:-//SnoPeak Events//EN
CALSCALE:GREGORIAN
METHOD:PUBLISH
BEGIN:VEVENT
UID:5818@snopeak.com
DTSTAMP:20260423T094153Z
DTSTART;VALUE=DATE:20241228
DTEND;VALUE=DATE:20241230
SUMMARY:UCSC Santon Downham
LOCATION:Santon Downham
DESCRIPTION:Club Race
URL:https://snopeak.com/events/ucsc-santon-downham/
END:VEVENT
END:VCALENDAR
