BEGIN:VCALENDAR
VERSION:2.0
PRODID:-//SnoPeak Events//EN
CALSCALE:GREGORIAN
METHOD:PUBLISH
BEGIN:VEVENT
UID:4228@snopeak.com
DTSTAMP:20260424T093446Z
DTSTART;VALUE=DATE:20200229
DTEND;VALUE=DATE:20200301
SUMMARY:BSHRA Championship Rally Santon Downham
LOCATION:Santon Downham
DESCRIPTION:Championship Race
URL:https://snopeak.com/events/bshra-championship-rally/
END:VEVENT
END:VCALENDAR
