BEGIN:VCALENDAR
VERSION:2.0
PRODID:-//SnoPeak Events//EN
CALSCALE:GREGORIAN
METHOD:PUBLISH
BEGIN:VEVENT
UID:4213@snopeak.com
DTSTAMP:20260422T110406Z
DTSTART;VALUE=DATE:19991030
DTEND;VALUE=DATE:19991101
SUMMARY:SDAS Keillour Rally
LOCATION:Keillour
DESCRIPTION:2 x 1-day Races
URL:https://snopeak.com/events/sdas-keillour-rally/
END:VEVENT
END:VCALENDAR
