BEGIN:VCALENDAR
VERSION:2.0
PRODID:-//SnoPeak Events//EN
CALSCALE:GREGORIAN
METHOD:PUBLISH
BEGIN:VEVENT
UID:4195@snopeak.com
DTSTAMP:20260422T094533Z
DTSTART;VALUE=DATE:19991204
DTEND;VALUE=DATE:19991206
SUMMARY:BSHRA Rendlesham Forest Rallies
LOCATION:Rendlesham Forest
DESCRIPTION:2 x 1-day Races
URL:https://snopeak.com/events/bshra-rendlesham-forest-rallies-13/
END:VEVENT
END:VCALENDAR
