BEGIN:VCALENDAR
VERSION:2.0
PRODID:-//SnoPeak Events//EN
CALSCALE:GREGORIAN
METHOD:PUBLISH
BEGIN:VEVENT
UID:4183@snopeak.com
DTSTAMP:20260419T152953Z
DTSTART;VALUE=DATE:20021006
DTEND;VALUE=DATE:20021007
SUMMARY:SSHC Larkhall Lecture
LOCATION:Larkhall
DESCRIPTION:Lecture
URL:https://snopeak.com/events/sshc-larkhall-lecture/
END:VEVENT
END:VCALENDAR
