BEGIN:VCALENDAR
VERSION:2.0
PRODID:-//SnoPeak Events//EN
CALSCALE:GREGORIAN
METHOD:PUBLISH
BEGIN:VEVENT
UID:4177@snopeak.com
DTSTAMP:20260424T025721Z
DTSTART;VALUE=DATE:20021026
DTEND;VALUE=DATE:20021028
SUMMARY:SDAS Devilla Championship Rally
LOCATION:Devilla
DESCRIPTION:Championship Race
URL:https://snopeak.com/events/sdas-devilla-championship-rally-4/
END:VEVENT
END:VCALENDAR
