BEGIN:VCALENDAR
VERSION:2.0
PRODID:-//SnoPeak Events//EN
CALSCALE:GREGORIAN
METHOD:PUBLISH
BEGIN:VEVENT
UID:4126@snopeak.com
DTSTAMP:20260424T194047Z
DTSTART;VALUE=DATE:20030306
DTEND;VALUE=DATE:20030310
SUMMARY:Crufts
LOCATION:NEC Birmingham
DESCRIPTION:Crufts
URL:https://snopeak.com/events/crufts-6/
END:VEVENT
END:VCALENDAR
