BEGIN:VCALENDAR
VERSION:2.0
PRODID:-//SnoPeak Events//EN
CALSCALE:GREGORIAN
METHOD:PUBLISH
BEGIN:VEVENT
UID:4059@snopeak.com
DTSTAMP:20260422T082207Z
DTSTART;VALUE=DATE:20190126
DTEND;VALUE=DATE:20190128
SUMMARY:SHCGB Aviemore Rally
LOCATION:Aviemore
DESCRIPTION:Race
URL:https://snopeak.com/events/shcgb-aviemore-rally-15/
END:VEVENT
END:VCALENDAR
