BEGIN:VCALENDAR
VERSION:2.0
PRODID:-//SnoPeak Events//EN
CALSCALE:GREGORIAN
METHOD:PUBLISH
BEGIN:VEVENT
UID:3791@snopeak.com
DTSTAMP:20260422T222235Z
DTSTART;VALUE=DATE:20140104
DTEND;VALUE=DATE:20140106
SUMMARY:BSHRA Pembrey Rallies
LOCATION:Pembrey
DESCRIPTION:2 x 1-day Races (Ch)
URL:https://snopeak.com/events/bshra-pembrey-rallies-4/
END:VEVENT
END:VCALENDAR
