BEGIN:VCALENDAR
VERSION:2.0
PRODID:-//SnoPeak Events//EN
CALSCALE:GREGORIAN
METHOD:PUBLISH
BEGIN:VEVENT
UID:3756@snopeak.com
DTSTAMP:20260421T200757Z
DTSTART;VALUE=DATE:20141012
DTEND;VALUE=DATE:20141013
SUMMARY:SHCGB Sherwood Pines Beginners Teach-in
LOCATION:Sherwood Pines
DESCRIPTION:Beginners Teach-in
URL:https://snopeak.com/events/shcgb-sherwood-pines-beginners-teach-in-2/
END:VEVENT
END:VCALENDAR
