BEGIN:VCALENDAR
VERSION:2.0
PRODID:-//SnoPeak Events//EN
CALSCALE:GREGORIAN
METHOD:PUBLISH
BEGIN:VEVENT
UID:3681@snopeak.com
DTSTAMP:20260422T043124Z
DTSTART;VALUE=DATE:20151114
DTEND;VALUE=DATE:20151116
SUMMARY:SHCGB Elveden Forest Rally
LOCATION:Elveden Forest
DESCRIPTION:Race
URL:https://snopeak.com/events/shcgb-elveden-forest-rally/
END:VEVENT
END:VCALENDAR
