BEGIN:VCALENDAR
VERSION:2.0
PRODID:-//SnoPeak Events//EN
CALSCALE:GREGORIAN
METHOD:PUBLISH
BEGIN:VEVENT
UID:3559@snopeak.com
DTSTAMP:20260424T093357Z
DTSTART;VALUE=DATE:20170318
DTEND;VALUE=DATE:20170320
SUMMARY:SDAS Bowland Trails Championship Rally
LOCATION:Bowland Trails
DESCRIPTION:Championship Race
URL:https://snopeak.com/events/sdas-bowland-trails-championship-rally/
END:VEVENT
END:VCALENDAR
