BEGIN:VCALENDAR
VERSION:2.0
PRODID:-//SnoPeak Events//EN
CALSCALE:GREGORIAN
METHOD:PUBLISH
BEGIN:VEVENT
UID:3543@snopeak.com
DTSTAMP:20260424T094129Z
DTSTART;VALUE=DATE:20171118
DTEND;VALUE=DATE:20171120
SUMMARY:SHCGB Carron Valley Rally
LOCATION:Carron Valley
DESCRIPTION:Race
URL:https://snopeak.com/events/shcgb-carron-valley-rally-2/
END:VEVENT
END:VCALENDAR
