BEGIN:VCALENDAR
VERSION:2.0
PRODID:-//SnoPeak Events//EN
CALSCALE:GREGORIAN
METHOD:PUBLISH
BEGIN:VEVENT
UID:3437@snopeak.com
DTSTAMP:20260423T211024Z
DTSTART;VALUE=DATE:20040227
DTEND;VALUE=DATE:20040301
SUMMARY:UKSC Ae Championship Rally
LOCATION:Ae
DESCRIPTION:Championship Race
URL:https://snopeak.com/events/uksc-ae-championship-rally/
END:VEVENT
END:VCALENDAR
