BEGIN:VCALENDAR
VERSION:2.0
PRODID:-//SnoPeak Events//EN
CALSCALE:GREGORIAN
METHOD:PUBLISH
BEGIN:VEVENT
UID:3229@snopeak.com
DTSTAMP:20260424T230430Z
DTSTART;VALUE=DATE:20061104
DTEND;VALUE=DATE:20061105
SUMMARY:SHCGB Delamere Night Rally
LOCATION:Delamere
DESCRIPTION:Night Race
URL:https://snopeak.com/events/shcgb-delamere-night-rally-3/
END:VEVENT
END:VCALENDAR
