BEGIN:VCALENDAR
VERSION:2.0
PRODID:-//SnoPeak Events//EN
CALSCALE:GREGORIAN
METHOD:PUBLISH
BEGIN:VEVENT
UID:3133@snopeak.com
DTSTAMP:20260425T165432Z
DTSTART;VALUE=DATE:20071110
DTEND;VALUE=DATE:20071112
SUMMARY:SSHC Culbin Rallies
LOCATION:Culbin
DESCRIPTION:2 x 1-day Races (Ch)
URL:https://snopeak.com/events/sshc-culbin-rallies-3/
END:VEVENT
END:VCALENDAR
