BEGIN:VCALENDAR
VERSION:2.0
PRODID:-//SnoPeak Events//EN
CALSCALE:GREGORIAN
METHOD:PUBLISH
BEGIN:VEVENT
UID:3117@snopeak.com
DTSTAMP:20260422T084942Z
DTSTART;VALUE=DATE:20071208
DTEND;VALUE=DATE:20071210
SUMMARY:SHCGB Fineshades Rally
LOCATION:Fineshades
DESCRIPTION:Race
URL:https://snopeak.com/events/shcgb-fineshades-rally-3/
END:VEVENT
END:VCALENDAR
