BEGIN:VCALENDAR
VERSION:2.0
PRODID:-//SnoPeak Events//EN
CALSCALE:GREGORIAN
METHOD:PUBLISH
BEGIN:VEVENT
UID:3071@snopeak.com
DTSTAMP:20260422T060349Z
DTSTART;VALUE=DATE:20080330
DTEND;VALUE=DATE:20080331
SUMMARY:UPF Bathgate Weight Pull
LOCATION:Bathgate
DESCRIPTION:Weight Pull
URL:https://snopeak.com/events/upf-bathgate-weight-pull/
END:VEVENT
END:VCALENDAR
