BEGIN:VCALENDAR
VERSION:2.0
PRODID:-//SnoPeak Events//EN
CALSCALE:GREGORIAN
METHOD:PUBLISH
BEGIN:VEVENT
UID:2897@snopeak.com
DTSTAMP:20260419T164948Z
DTSTART;VALUE=DATE:20210403
DTEND;VALUE=DATE:20210404
SUMMARY:SHCGB Bearley 2020 AGM
LOCATION:Bearley Village Hall
DESCRIPTION:A.G.M
URL:https://snopeak.com/events/shcgb-2020-agm/
END:VEVENT
END:VCALENDAR
