BEGIN:VCALENDAR
VERSION:2.0
PRODID:-//SnoPeak Events//EN
CALSCALE:GREGORIAN
METHOD:PUBLISH
BEGIN:VEVENT
UID:2889@snopeak.com
DTSTAMP:20260419T130245Z
DTSTART;VALUE=DATE:20210102
DTEND;VALUE=DATE:20210104
SUMMARY:SoEAS Haywards Heath
LOCATION:Haywards Heath
DESCRIPTION:Championship Race
URL:https://snopeak.com/events/soeas-haywards-heath/
END:VEVENT
END:VCALENDAR
