BEGIN:VCALENDAR
VERSION:2.0
PRODID:-//SnoPeak Events//EN
CALSCALE:GREGORIAN
METHOD:PUBLISH
BEGIN:VEVENT
UID:2759@snopeak.com
DTSTAMP:20260422T164350Z
DTSTART;VALUE=DATE:20240202
DTEND;VALUE=DATE:20240205
SUMMARY:BSHRA Kings Forest West Rallies
LOCATION:Kings Forest West
DESCRIPTION:3 x 1-day Races (Ch)
URL:https://snopeak.com/events/bshra-kings-west/
END:VEVENT
END:VCALENDAR
